BEGIN:VCALENDAR
VERSION:2.0
PRODID:-//ChamberMaster//Event Calendar 2.0//EN
METHOD:PUBLISH
X-PUBLISHED-TTL:P3D
REFRESH-INTERVAL:P3D
CALSCALE:GREGORIAN
BEGIN:VEVENT
DTSTART:20250106T213000Z
DTEND:20250106T223000Z
X-MICROSOFT-CDO-ALLDAYEVENT:FALSE
SUMMARY:Crafternoon: Sparkling Snowflakes
DESCRIPTION:Crafternoon: Sparkling Snowflakes\n\nCome to Rawlins Library's first Crafternoon session and make a sparkly beaded snowflake with your friends after school. Enjoy a free bag of popcorn after the program.
X-ALT-DESC;FMTTYPE=text/html:Crafternoon: Sparkling Snowflakes<br />\nCome to Rawlins Library&#39\;s first Crafternoon session and make a sparkly beaded snowflake with your friends after school. Enjoy a free bag of popcorn after the program.
LOCATION:Rawlins Library in the SD Room 1000 E. Church Street
UID:e.413.40637
SEQUENCE:3
DTSTAMP:20260419T214511Z
URL:https://business.pierre.org/events/details/crafternoon-sparkling-snowflakes-40637
END:VEVENT

END:VCALENDAR
