BEGIN:VCALENDAR
VERSION:2.0
PRODID:-//ChamberMaster//Event Calendar 2.0//EN
METHOD:PUBLISH
X-PUBLISHED-TTL:P3D
REFRESH-INTERVAL:P3D
CALSCALE:GREGORIAN
BEGIN:VEVENT
DTSTART:20211021T230000Z
DTEND:20211022T020000Z
X-MICROSOFT-CDO-ALLDAYEVENT:FALSE
SUMMARY:CPR
DESCRIPTION:Adult and pediatric CPR\, AED use\, and how to relieve choking. This course teaches skills with American Red Cross training curriculum.
X-ALT-DESC;FMTTYPE=text/html:Adult and pediatric CPR\, AED use\, and how to relieve choking. This course teaches skills with American Red Cross training curriculum.
LOCATION:At The Right Turn
UID:e.413.34832
SEQUENCE:3
DTSTAMP:20260420T124338Z
URL:https://business.pierre.org/events/details/cpr-10-21-2021-34832
END:VEVENT

END:VCALENDAR
