BEGIN:VCALENDAR
VERSION:2.0
PRODID:-//ChamberMaster//Event Calendar 2.0//EN
METHOD:PUBLISH
X-PUBLISHED-TTL:P3D
REFRESH-INTERVAL:P3D
CALSCALE:GREGORIAN
BEGIN:VEVENT
DTSTART:20220616T230000Z
DTEND:20220617T020000Z
X-MICROSOFT-CDO-ALLDAYEVENT:FALSE
SUMMARY:CPR
DESCRIPTION:Adult and pediatric CPR\, AED use\, and how to relieve choking. The course teaches skills with American Red Cross training curriculum.
X-ALT-DESC;FMTTYPE=text/html:Adult and pediatric CPR\, AED use\, and how to relieve choking. The course teaches skills with American Red Cross training curriculum.
LOCATION:The Right Turn
UID:e.413.35864
SEQUENCE:3
DTSTAMP:20260422T160434Z
URL:https://business.pierre.org/events/details/cpr-06-16-2022-35864
END:VEVENT

END:VCALENDAR
