BEGIN:VCALENDAR
VERSION:2.0
PRODID:-//ChamberMaster//Event Calendar 2.0//EN
METHOD:PUBLISH
X-PUBLISHED-TTL:P3D
REFRESH-INTERVAL:P3D
CALSCALE:GREGORIAN
BEGIN:VEVENT
DTSTART:20231108T010000Z
DTEND:20231108T030000Z
X-MICROSOFT-CDO-ALLDAYEVENT:FALSE
SUMMARY:Concert
DESCRIPTION:Yesterday Once More The Sound of Karen Carpenter This is a celebration of those songs and 'that' sound told via the velvet voice of singer/actress Joanne O'Brien. Through a cavalcade of iconic classics\, Joanne illuminates the musical diversity\, pop culture\, and political climate of that time in history when the world first fell in love with the magical sound of Karen and Richard Carpenter.
X-ALT-DESC;FMTTYPE=text/html:Yesterday Once More The Sound of Karen Carpenter This is a celebration of those songs and &lsquo\;that&rsquo\; sound told via the velvet voice of singer/actress Joanne O&rsquo\;Brien. Through a cavalcade of iconic classics\, Joanne illuminates the musical diversity\, pop culture\, and political climate of that time in history when the world first fell in love with the magical sound of Karen and Richard Carpenter.
LOCATION:Riggs theater
UID:e.413.37637
SEQUENCE:3
DTSTAMP:20260423T111917Z
URL:https://business.pierre.org/events/details/concert-11-07-2023-37637
END:VEVENT

END:VCALENDAR
