BEGIN:VCALENDAR
VERSION:2.0
PRODID:-//ChamberMaster//Event Calendar 2.0//EN
METHOD:PUBLISH
X-PUBLISHED-TTL:P3D
REFRESH-INTERVAL:P3D
CALSCALE:GREGORIAN
BEGIN:VEVENT
DTSTART:20250115T000000Z
DTEND:20250115T020000Z
X-MICROSOFT-CDO-ALLDAYEVENT:FALSE
SUMMARY:Common Sense Parenting Classes 2025
DESCRIPTION:A 6-session program offered by Growing Up Together. Common Sense Parenting is for parents\, grandparents\, or caregivers with children and adolescents ages 3 and up.\n\n\n\nLearn how to:\n\n	Reduce family stress\n	Support success in school\n	Reduce problem behavior\n	Enrich relationships with children\n	Diminish yelling and fighting
X-ALT-DESC;FMTTYPE=text/html:A 6-session program offered by Growing Up Together. Common Sense Parenting is for parents\, grandparents\, or caregivers with children and adolescents ages 3 and up.<br>\n<br>\nLearn how to:\n<ul>\n	<li>Reduce family stress</li>\n	<li>Support success in school</li>\n	<li>Reduce problem behavior</li>\n	<li>Enrich relationships with children</li>\n	<li>Diminish yelling and fighting</li>\n</ul>\n
LOCATION:Oahe Child Development Center 2307 E. Capitol Avenue Pierre\, SD
UID:e.413.40656
SEQUENCE:3
DTSTAMP:20260422T040157Z
URL:https://business.pierre.org/events/details/common-sense-parenting-classes-2025-40656
END:VEVENT

END:VCALENDAR
