BEGIN:VCALENDAR
VERSION:2.0
PRODID:-//ChamberMaster//Event Calendar 2.0//EN
METHOD:PUBLISH
X-PUBLISHED-TTL:P3D
REFRESH-INTERVAL:P3D
CALSCALE:GREGORIAN
BEGIN:VEVENT
DTSTART:20210216T150000Z
DTEND:20210216T164000Z
X-MICROSOFT-CDO-ALLDAYEVENT:FALSE
SUMMARY:Coffee\, rolls and exercise
DESCRIPTION:Coffee and rolls from 9AM to 10 AM. Then exercise from 10 to 10:40
X-ALT-DESC;FMTTYPE=text/html:Coffee and rolls from 9AM to 10 AM. Then exercise from 10 to 10:40
LOCATION:Pierre Senior Center 401 W Pleasant Dr
UID:e.413.33817
SEQUENCE:3
DTSTAMP:20260424T043658Z
URL:https://business.pierre.org/events/details/coffee-rolls-and-exercise-33817
END:VEVENT

END:VCALENDAR
