BEGIN:VCALENDAR
VERSION:2.0
PRODID:-//ChamberMaster//Event Calendar 2.0//EN
METHOD:PUBLISH
X-PUBLISHED-TTL:P3D
REFRESH-INTERVAL:P3D
CALSCALE:GREGORIAN
BEGIN:VEVENT
DTSTART:20240928T150000Z
DTEND:20240928T210000Z
X-MICROSOFT-CDO-ALLDAYEVENT:FALSE
SUMMARY:Coffee Event - Kris' Glam Closet
DESCRIPTION:We are celebrating Fall! What better way than to have some coffee. We will have some coffee in the shop along with other coffee items! We will be having some instore fun and doing a guess the Coffee Bean Jar! Don't forget to come shop our Vendors in the back of the store from 10-3 PM. Look for more information on our Facebook Page!
X-ALT-DESC;FMTTYPE=text/html:We are celebrating Fall! What better way than to have some coffee. We will have some coffee in the shop along with other coffee items! We will be having some instore fun and doing a guess the Coffee Bean Jar! Don&#39\;t forget to come shop our Vendors in the back of the store from 10-3 PM. Look for more information on our Facebook Page!
LOCATION:Kris' Glam Closet 308 S. Pierre Street
UID:e.413.40044
SEQUENCE:3
DTSTAMP:20260423T024519Z
URL:https://business.pierre.org/events/details/coffee-event-kris-glam-closet-40044
END:VEVENT

END:VCALENDAR
