BEGIN:VCALENDAR
VERSION:2.0
PRODID:-//ChamberMaster//Event Calendar 2.0//EN
METHOD:PUBLISH
X-PUBLISHED-TTL:P3D
REFRESH-INTERVAL:P3D
CALSCALE:GREGORIAN
BEGIN:VEVENT
DTSTART:20230930T140000Z
DTEND:20230930T210000Z
X-MICROSOFT-CDO-ALLDAYEVENT:FALSE
SUMMARY:Coffee\, Coffee\, Coffee Event
DESCRIPTION:We are celebrating Fall! What Better way than to have some coffee. We will have some coffee in the shop from Brewbird's Coffee\, along with other coffee items! We will be having some instore fun and doing a guess the Coffee Bean Jar! Don't forget to come shop our Vendors in the back of our store from 9 - 4 PM. Look for more information on our Facebook page @ Kris' Glam Closet.
X-ALT-DESC;FMTTYPE=text/html:We are celebrating Fall! What Better way than to have some coffee. We will have some coffee in the shop from Brewbird&#39\;s Coffee\, along with other coffee items! We will be having some instore fun and doing a guess the Coffee Bean Jar! Don&#39\;t forget to come shop our Vendors in the back of our store from 9 - 4 PM. Look for more information on our Facebook page @ Kris&#39\; Glam Closet.
LOCATION:Kris' Glam Closet 308 S. Pierre St. Downtown Pierre
UID:e.413.37288
SEQUENCE:3
DTSTAMP:20260425T163126Z
URL:https://business.pierre.org/events/details/coffee-coffee-coffee-event-37288
END:VEVENT

END:VCALENDAR
