BEGIN:VCALENDAR
VERSION:2.0
PRODID:-//ChamberMaster//Event Calendar 2.0//EN
METHOD:PUBLISH
X-PUBLISHED-TTL:P3D
REFRESH-INTERVAL:P3D
CALSCALE:GREGORIAN
BEGIN:VEVENT
DTSTART:20221203T150000Z
DTEND:20221203T210000Z
X-MICROSOFT-CDO-ALLDAYEVENT:FALSE
SUMMARY:Christmas Holiday Market
DESCRIPTION:Join us for our 2nd annual Christmas Holiday Market! Not only will we have a variety of AMAZING vendors but we will also have FUN things for our shoppers to include: ??Santa and pony pictures (11-3) bring a food item or cash for PARS ??Bloody Mary Bar (10-12 FREE while supplies last) ??Wine Tasting with Prairie Berry (1-3 FREE while supplies last) Get your Christmas shopping done EARLY and have some FUN doing it!!
X-ALT-DESC;FMTTYPE=text/html:Join us for our 2nd annual Christmas Holiday Market! Not only will we have a variety of AMAZING vendors but we will also have FUN things for our shoppers to include: ??Santa and pony pictures (11-3) bring a food item or cash for PARS ??Bloody Mary Bar (10-12 FREE while supplies last) ??Wine Tasting with Prairie Berry (1-3 FREE while supplies last) Get your Christmas shopping done EARLY and have some FUN doing it!!
LOCATION:Missouri Avenue Event Center 217 W Missouri Ave Pierre\, SD 57501
UID:e.413.36433
SEQUENCE:3
DTSTAMP:20260423T201918Z
URL:https://business.pierre.org/events/details/christmas-holiday-market-36433
END:VEVENT

END:VCALENDAR
