BEGIN:VCALENDAR
VERSION:2.0
PRODID:-//ChamberMaster//Event Calendar 2.0//EN
METHOD:PUBLISH
X-PUBLISHED-TTL:P3D
REFRESH-INTERVAL:P3D
CALSCALE:GREGORIAN
BEGIN:VEVENT
DTSTART:20181121T140000Z
DTEND:20181226T040000Z
X-MICROSOFT-CDO-ALLDAYEVENT:FALSE
SUMMARY:Christmas at the Capitol
DESCRIPTION:As the most special time of year approaches\, Linda and I are proud to host "An Enchanted Christmas\," the 28th Annual CHristmas at the Capitol. This year's celebration will highlight nearly 90 trees decorated by businesses\, nonprofit organizations\, communities\, and government offices throughout the state. Please join us in observation of the holiday season. We're sure you'll love our beautiful Christmas at the Capitol display. We wish you and yours peace and happiness this holiday season. Merry Christmas!\n\n-Dennis & Linda Daugaard
X-ALT-DESC;FMTTYPE=text/html:As the most special time of year approaches\, Linda and I are proud to host &quot\;An Enchanted Christmas\,&quot\; the 28th Annual CHristmas at the Capitol. This year&#39\;s celebration will highlight nearly 90 trees decorated by businesses\, nonprofit organizations\, communities\, and government offices throughout the state. Please join us in observation of the holiday season. We&#39\;re sure you&#39\;ll love our beautiful Christmas at the Capitol display. We wish you and yours peace and happiness this holiday season. Merry Christmas!<br />\n-Dennis &amp\; Linda Daugaard
LOCATION:South Dakota State Capitol building
UID:e.413.26463
SEQUENCE:3
DTSTAMP:20260420T183039Z
URL:https://business.pierre.org/events/details/christmas-at-the-capitol-26463
END:VEVENT

END:VCALENDAR
