BEGIN:VCALENDAR
VERSION:2.0
PRODID:-//ChamberMaster//Event Calendar 2.0//EN
METHOD:PUBLISH
X-PUBLISHED-TTL:P3D
REFRESH-INTERVAL:P3D
CALSCALE:GREGORIAN
BEGIN:VEVENT
DTSTART:20220602T160000Z
DTEND:20220602T220000Z
X-MICROSOFT-CDO-ALLDAYEVENT:FALSE
SUMMARY:Chamber Golf Classic 2022
DESCRIPTION:The 20th Annual Chamber Golf Classic will be held on Thursday\, June 2\, 2022 at Hillsview Golf Course. Lunch and registration begin at 11:00am\, with a shotgun start promptly at 12:00pm. The tournament is in a scramble format.\n\n\n\nGreen fees\, two golf carts\, lunch and two drink tickets per team member are included in the team registration fee. Unlimited mulligans are available for $5 each!
X-ALT-DESC;FMTTYPE=text/html:The 20th Annual Chamber Golf Classic will be held on Thursday\, June 2\, 2022 at Hillsview Golf Course. Lunch and registration begin at 11:00am\, with a shotgun start promptly at 12:00pm. The tournament is in a scramble format.<br />\n<br />\nGreen fees\, two golf carts\, lunch and two drink tickets per team member are included in the team registration fee. Unlimited mulligans are available for $5 each!
LOCATION:Hillsview Golf Course\, 4201 SD-34\, Pierre
UID:e.413.35433
SEQUENCE:3
DTSTAMP:20260421T082511Z
URL:https://business.pierre.org/events/details/chamber-golf-classic-2022-35433
END:VEVENT

END:VCALENDAR
