BEGIN:VCALENDAR
VERSION:2.0
PRODID:-//ChamberMaster//Event Calendar 2.0//EN
METHOD:PUBLISH
X-PUBLISHED-TTL:P3D
REFRESH-INTERVAL:P3D
CALSCALE:GREGORIAN
BEGIN:VEVENT
DTSTART:20240717T180000Z
DTEND:20240717T180000Z
X-MICROSOFT-CDO-ALLDAYEVENT:FALSE
SUMMARY:Centenarian of the Year Celebration
DESCRIPTION:Join us for a celebration in honor of our own Hazel Baumberger\, the 2024 South Dakota Centenarian of the Year! Hazel was born in 1916\, and is currently the oldest member of the South Dakota Health Care Association's Century Club. We hope to see you there!
X-ALT-DESC;FMTTYPE=text/html:Join us for a celebration in honor of our own Hazel Baumberger\, the 2024 South Dakota Centenarian of the Year! Hazel was born in 1916\, and is currently the oldest member of the South Dakota Health Care Association&#39\;s Century Club. We hope to see you there!
LOCATION:Peaceful Pines Senior Living at Fort Pierre 1000 Yellowstone Street\, Fort Pierre
UID:e.413.39578
SEQUENCE:3
DTSTAMP:20260420T223015Z
URL:https://business.pierre.org/events/details/centenarian-of-the-year-celebration-39578
END:VEVENT

END:VCALENDAR
