BEGIN:VCALENDAR
VERSION:2.0
PRODID:-//ChamberMaster//Event Calendar 2.0//EN
METHOD:PUBLISH
X-PUBLISHED-TTL:P3D
REFRESH-INTERVAL:P3D
CALSCALE:GREGORIAN
BEGIN:VEVENT
DTSTART:20200514T171500Z
DTEND:20200514T180000Z
X-MICROSOFT-CDO-ALLDAYEVENT:FALSE
SUMMARY:Cardio - Push The Intensity (remote)
DESCRIPTION:Join Karla and Jess for an intense cardio class via facebook live!
X-ALT-DESC;FMTTYPE=text/html:Join Karla and Jess for an intense cardio class via facebook live!
LOCATION:
UID:e.413.31884
SEQUENCE:3
DTSTAMP:20260423T123830Z
URL:https://business.pierre.org/events/details/cardio-push-the-intensity-remote-31884
END:VEVENT

END:VCALENDAR
