BEGIN:VCALENDAR
VERSION:2.0
PRODID:-//ChamberMaster//Event Calendar 2.0//EN
METHOD:PUBLISH
X-PUBLISHED-TTL:P3D
REFRESH-INTERVAL:P3D
CALSCALE:GREGORIAN
BEGIN:VEVENT
DTSTART;VALUE=DATE:20200704
DTEND;VALUE=DATE:20200705
TRANSP:TRANSPARENT
X-MICROSOFT-CDO-ALLDAYEVENT:TRUE
SUMMARY:Capital City Band Performance
DESCRIPTION:"Happy Birthday America" concert by the Capital City Band
X-ALT-DESC;FMTTYPE=text/html:&quot\;Happy Birthday America&quot\; concert by the Capital City Band
LOCATION:Steamboat Park Amphitheater
UID:e.413.32313
SEQUENCE:3
DTSTAMP:20260423T002032Z
URL:https://business.pierre.org/events/details/capital-city-band-performance-32313
END:VEVENT

END:VCALENDAR
