BEGIN:VCALENDAR
VERSION:2.0
PRODID:-//ChamberMaster//Event Calendar 2.0//EN
METHOD:PUBLISH
X-PUBLISHED-TTL:P3D
REFRESH-INTERVAL:P3D
CALSCALE:GREGORIAN
BEGIN:VEVENT
DTSTART:20200204T010000Z
DTEND:20200204T030000Z
X-MICROSOFT-CDO-ALLDAYEVENT:FALSE
SUMMARY:Canvasback Art Club
DESCRIPTION:The Canvasback Art Club will meet on the first Monday of every month unless a holiday falls on the first Monday. The meeting will then be postponed to a later date.
X-ALT-DESC;FMTTYPE=text/html:<div>The Canvasback Art Club will meet on the first Monday of every month unless a holiday falls on the first Monday. The meeting will then be postponed to a later date.</div>\n
LOCATION:Rawlins Library 1000 E. Church
UID:e.413.8456
SEQUENCE:3
DTSTAMP:20260423T010032Z
URL:https://business.pierre.org/events/details/canvasback-art-club-02-03-2020-8456
END:VEVENT

END:VCALENDAR
