BEGIN:VCALENDAR
VERSION:2.0
PRODID:-//ChamberMaster//Event Calendar 2.0//EN
METHOD:PUBLISH
X-PUBLISHED-TTL:P3D
REFRESH-INTERVAL:P3D
CALSCALE:GREGORIAN
BEGIN:VEVENT
DTSTART:20260505T163000Z
DTEND:20260505T180000Z
X-MICROSOFT-CDO-ALLDAYEVENT:FALSE
SUMMARY:CANCELLED Lunch & Learn - Mental Health in the Workplace
DESCRIPTION:CANCELLED. Join us for September's Capital Area Networking Event: Mental Health in the Workplace on September 9\, 2026. \n\n\n\nLunch & Learn: Mental Health in the Workplace\n\nPresented by Jill Janecke\, Rising Hope Counseling
X-ALT-DESC;FMTTYPE=text/html:<p data-end="492" data-start="256"><font face="arial"><strong>CANCELLED</strong>.&nbsp\;<strong>Join us for September&#39\;s Capital Area Networking Event: Mental Health in the Workplace on September 9\, 2026.&nbsp\;</strong><br />\n<br />\nLunch &amp\; Learn: Mental Health in the Workplace<br />\nPresented by Jill Janecke\, Rising Hope Counseling</font><br />\n&nbsp\;</p>\n
LOCATION:Pierre Area Chamber of Commerce Community Room 800 W. Dakota Ave Pierre\, SD 57501 **NO VIRTUAL OPTION OFFERED\, IN PERSON ONLY**
UID:e.413.43393
SEQUENCE:3
DTSTAMP:20260420T180028Z
URL:https://business.pierre.org/events/details/cancelled-lunch-learn-mental-health-in-the-workplace-43393
END:VEVENT

END:VCALENDAR
