BEGIN:VCALENDAR
VERSION:2.0
PRODID:-//ChamberMaster//Event Calendar 2.0//EN
METHOD:PUBLISH
X-PUBLISHED-TTL:P3D
REFRESH-INTERVAL:P3D
CALSCALE:GREGORIAN
BEGIN:VEVENT
DTSTART:20190217T020000Z
DTEND:20190217T060000Z
X-MICROSOFT-CDO-ALLDAYEVENT:FALSE
SUMMARY:Camp Comfort @ Drifters Bar & Grille
DESCRIPTION:This 6-piece band from SD creates highly-danceable guitar-centric jams in a relaxed but rugged fashion. Insistent grooves highlight playful lyrics and tasteful lead guitar for an energy that is equal parts bonfire jam session\, reggae house party\, and festival blues-rock. Camp Comfort's magnetic style draws even the most stubborn wallflowers to the dance floor with accessible and memorable songs. Recently\, the band has branched out of the midwest playing shows and festivals in anticipation of their new album coming this Dec. https://open.spotify.com/album/6b0Li83CjpvAShhW0ZDVFA?si=9aOGWzkeTOy8BHQUDV0vFA
X-ALT-DESC;FMTTYPE=text/html:This 6-piece band from SD creates highly-danceable guitar-centric jams in a relaxed but rugged fashion. Insistent grooves highlight playful lyrics and tasteful lead guitar for an energy that is equal parts bonfire jam session\, reggae house party\, and festival blues-rock. Camp Comfort&rsquo\;s magnetic style draws even the most stubborn wallflowers to the dance floor with accessible and memorable songs. Recently\, the band has branched out of the midwest playing shows and festivals in anticipation of their new album coming this Dec. https://open.spotify.com/album/6b0Li83CjpvAShhW0ZDVFA?si=9aOGWzkeTOy8BHQUDV0vFA
LOCATION:Drifters Bar & Grille
UID:e.413.26782
SEQUENCE:3
DTSTAMP:20260423T094611Z
URL:https://business.pierre.org/events/details/camp-comfort-drifters-bar-grille-26782
END:VEVENT

END:VCALENDAR
