BEGIN:VCALENDAR
VERSION:2.0
PRODID:-//ChamberMaster//Event Calendar 2.0//EN
METHOD:PUBLISH
X-PUBLISHED-TTL:P3D
REFRESH-INTERVAL:P3D
CALSCALE:GREGORIAN
BEGIN:VEVENT
DTSTART:20240519T140000Z
DTEND:20240519T180000Z
X-MICROSOFT-CDO-ALLDAYEVENT:FALSE
SUMMARY:Breakfast - Lunch & Bubblies!
DESCRIPTION:Denver Skillet - $8\n	Biscuit & gravy $8\n	Cheeseburger Deluxe & potato salad $8\n	Bottomless Mimosas $25
X-ALT-DESC;FMTTYPE=text/html:<ul>\n	<li>Denver Skillet - $8</li>\n	<li>Biscuit &amp\; gravy $8</li>\n	<li>Cheeseburger Deluxe &amp\; potato salad $8</li>\n	<li>Bottomless Mimosas $25</li>\n</ul>\n
LOCATION:JD's Lounge
UID:e.413.39223
SEQUENCE:3
DTSTAMP:20260426T041542Z
URL:https://business.pierre.org/events/details/breakfast-lunch-bubblies-39223
END:VEVENT

END:VCALENDAR
