BEGIN:VCALENDAR
VERSION:2.0
PRODID:-//ChamberMaster//Event Calendar 2.0//EN
METHOD:PUBLISH
X-PUBLISHED-TTL:P3D
REFRESH-INTERVAL:P3D
CALSCALE:GREGORIAN
BEGIN:VEVENT
DTSTART;VALUE=DATE:20221015
DTEND;VALUE=DATE:20221016
TRANSP:TRANSPARENT
X-MICROSOFT-CDO-ALLDAYEVENT:TRUE
SUMMARY:Bras For A Cause
DESCRIPTION:Save the Date - Bras For A Cause will be Saturday\, Oct. 15 at the Ramkota Hotel in Pierre\, SD! If you would like to donate via credit card\, donate to the Live or Silent auctions\, are interested in being a Table Sponsor\, Food Sponsor or Coat Sponsor\, email bras4acause@yahoo.com\n\nYou can send donation checks to Bras For A Cause\, 29525 Mica Pl.\, Pierre\, SD 57501.\n\nThank you!
X-ALT-DESC;FMTTYPE=text/html:Save the Date - Bras For A Cause will be Saturday\, Oct. 15 at the Ramkota Hotel in Pierre\, SD! If you would like to donate via credit card\, donate to the Live or Silent auctions\, are interested in being a Table Sponsor\, Food Sponsor or Coat Sponsor\, email bras4acause@yahoo.com<br />\nYou can send donation checks to Bras For A Cause\, 29525 Mica Pl.\, Pierre\, SD 57501.<br />\nThank you!
LOCATION:
UID:e.413.35579
SEQUENCE:3
DTSTAMP:20260425T235820Z
URL:https://business.pierre.org/events/details/bras-for-a-cause-35579
END:VEVENT

END:VCALENDAR
