BEGIN:VCALENDAR
VERSION:2.0
PRODID:-//ChamberMaster//Event Calendar 2.0//EN
METHOD:PUBLISH
X-PUBLISHED-TTL:P3D
REFRESH-INTERVAL:P3D
CALSCALE:GREGORIAN
BEGIN:VEVENT
DTSTART:20181106T220000Z
DTEND:20181107T010000Z
X-MICROSOFT-CDO-ALLDAYEVENT:FALSE
SUMMARY:Boy Scout Troop 27 Spaghetti Feed
DESCRIPTION:Boy Scout Troop 27 is hosting a spaghetti feed on Tuesday\, November 6. Funds raised will help the Scouts attend the high-adventure camp\, Florida Sea Base located in the Florida Keys. While at Florida Sea Base\, the Scouts will spend the week camping on a deserted island\, exploring the island and ocean while learning about the different ecosystems. Cost per person is $5
X-ALT-DESC;FMTTYPE=text/html:Boy Scout Troop 27 is hosting a spaghetti feed on Tuesday\, November 6. Funds raised will help the Scouts attend the high-adventure camp\, Florida Sea Base located in the Florida Keys. While at Florida Sea Base\, the Scouts will spend the week camping on a deserted island\, exploring the island and ocean while learning about the different ecosystems. Cost per person is $5
LOCATION:First United Methodist Church
UID:e.413.26510
SEQUENCE:3
DTSTAMP:20260419T171102Z
URL:https://business.pierre.org/events/details/boy-scout-troop-27-spaghetti-feed-26510
END:VEVENT

END:VCALENDAR
