BEGIN:VCALENDAR
VERSION:2.0
PRODID:-//ChamberMaster//Event Calendar 2.0//EN
METHOD:PUBLISH
X-PUBLISHED-TTL:P3D
REFRESH-INTERVAL:P3D
CALSCALE:GREGORIAN
BEGIN:VEVENT
DTSTART:20220609T230000Z
DTEND:20220610T003000Z
X-MICROSOFT-CDO-ALLDAYEVENT:FALSE
SUMMARY:Book Nook Preschool Training
DESCRIPTION:In this class you will receive high-quality books and book nooks which have hands on activities to support preschool social and emotional skill building.
X-ALT-DESC;FMTTYPE=text/html:In this class you will receive high-quality books and book nooks which have hands on activities to support preschool social and emotional skill building.
LOCATION:Online
UID:e.413.35862
SEQUENCE:3
DTSTAMP:20260424T005420Z
URL:https://business.pierre.org/events/details/book-nook-preschool-training-35862
END:VEVENT

END:VCALENDAR
