BEGIN:VCALENDAR
VERSION:2.0
PRODID:-//ChamberMaster//Event Calendar 2.0//EN
METHOD:PUBLISH
X-PUBLISHED-TTL:P3D
REFRESH-INTERVAL:P3D
CALSCALE:GREGORIAN
BEGIN:VEVENT
DTSTART:20180317T170000Z
DTEND:20180317T180000Z
X-MICROSOFT-CDO-ALLDAYEVENT:FALSE
SUMMARY:Beer Yoga at Drifters!
DESCRIPTION:Come get your St. Patrick's Day celebration off to a great start with an hour of Beer Yoga! The Andrea Royer Studio will be bringing a beer-centered yoga class to the beautiful Drifters Bar & Grille. Class is $15\, beer is available at the bar. No advance registration or purchase necessary!
X-ALT-DESC;FMTTYPE=text/html:Come get your St. Patrick&#39\;s Day celebration off to a great start with an hour of Beer Yoga! The Andrea Royer Studio will be bringing a beer-centered yoga class to the beautiful Drifters Bar &amp\; Grille. Class is $15\, beer is available at the bar. No advance registration or purchase necessary!
LOCATION:Drifters Bar & Grille
UID:e.413.24734
SEQUENCE:3
DTSTAMP:20260422T105223Z
URL:https://business.pierre.org/events/details/beer-yoga-at-drifters-24734
END:VEVENT

END:VCALENDAR
