BEGIN:VCALENDAR
VERSION:2.0
PRODID:-//ChamberMaster//Event Calendar 2.0//EN
METHOD:PUBLISH
X-PUBLISHED-TTL:P3D
REFRESH-INTERVAL:P3D
CALSCALE:GREGORIAN
BEGIN:VEVENT
DTSTART:20240406T220000Z
DTEND:20240407T000000Z
X-MICROSOFT-CDO-ALLDAYEVENT:FALSE
SUMMARY:Baked Potato Bar
DESCRIPTION:Baked Potato Bar fundraiser meal at the Pierre Senior Citizens Center. Entertainment by KC Huges group. You get a baked potato and then choose toppings - cheese\, broccoli\, ham\, bacon bits\, chili\, butter\, sour cream. Plus you get homemade dessert and drinks. Tickets can be purchased at the Center Office ahead of time or on-site.
X-ALT-DESC;FMTTYPE=text/html:Baked Potato Bar fundraiser meal at the Pierre Senior Citizens Center. Entertainment by KC Huges group. You get a baked potato and then choose toppings - cheese\, broccoli\, ham\, bacon bits\, chili\, butter\, sour cream. Plus you get homemade dessert and drinks. Tickets can be purchased at the Center Office ahead of time or on-site.
LOCATION:Pierre Senior Center 401 W Pleasant Dr. Pierre
UID:e.413.38991
SEQUENCE:3
DTSTAMP:20260425T231322Z
URL:https://business.pierre.org/events/details/baked-potato-bar-38991
END:VEVENT

END:VCALENDAR
