BEGIN:VCALENDAR
VERSION:2.0
PRODID:-//ChamberMaster//Event Calendar 2.0//EN
METHOD:PUBLISH
X-PUBLISHED-TTL:P3D
REFRESH-INTERVAL:P3D
CALSCALE:GREGORIAN
BEGIN:VEVENT
DTSTART:20200303T010000Z
DTEND:20200303T030000Z
X-MICROSOFT-CDO-ALLDAYEVENT:FALSE
SUMMARY:Auditions for "Native Gardens"
DESCRIPTION:Pierre Players will hold auditions for "Native Gardens" on Monday\, March 2\, 2020\, at 7 p.m. at the Grand Opera House. There are roles for 2 men\, 2 women and 2-4 extras men or women. Seeking a diverse ethnic cast. Show dates are April 24-26 and April 30-May 2\, with a preview performance on April 22\, 2020. For more information\, contact Director Alisa Bousa at 605.280.3700 ademers@pie.midco.net.
X-ALT-DESC;FMTTYPE=text/html:Pierre Players will hold auditions for &quot\;Native Gardens&quot\; on Monday\, March 2\, 2020\, at 7 p.m. at the Grand Opera House. There are roles for 2 men\, 2 women and 2-4 extras men or women. Seeking a diverse ethnic cast. Show dates are April 24-26 and April 30-May 2\, with a preview performance on April 22\, 2020. For more information\, contact Director Alisa Bousa at 605.280.3700 ademers@pie.midco.net.
LOCATION:Grand Opera House 109 S. Pierre St.
UID:e.413.28849
SEQUENCE:3
DTSTAMP:20260420T051817Z
URL:https://business.pierre.org/events/details/auditions-for-native-gardens-28849
END:VEVENT

END:VCALENDAR
