BEGIN:VCALENDAR
VERSION:2.0
PRODID:-//ChamberMaster//Event Calendar 2.0//EN
METHOD:PUBLISH
X-PUBLISHED-TTL:P3D
REFRESH-INTERVAL:P3D
CALSCALE:GREGORIAN
BEGIN:VEVENT
DTSTART:20240927T210000Z
DTEND:20240928T000000Z
X-MICROSOFT-CDO-ALLDAYEVENT:FALSE
SUMMARY:Anywhere Eats GRAND OPENING Weekend
DESCRIPTION:We'll be serving dinner at Raven's Roadside Tavern from 4-7 PM! Come for the food\, stay for the atmosphere and drinks. They're offering indoor seating along with adult beverages starting at 6!
X-ALT-DESC;FMTTYPE=text/html:We&#39\;ll be serving dinner at Raven&#39\;s Roadside Tavern from 4-7 PM! Come for the food\, stay for the atmosphere and drinks. They&#39\;re offering indoor seating along with adult beverages starting at 6!
LOCATION:Raven's Roadside Tavern 611 S. Lowell Avenue
UID:e.413.40058
SEQUENCE:3
DTSTAMP:20260425T164848Z
URL:https://business.pierre.org/events/details/anywhere-eats-grand-opening-weekend-40058
END:VEVENT

END:VCALENDAR
