BEGIN:VCALENDAR
VERSION:2.0
PRODID:-//ChamberMaster//Event Calendar 2.0//EN
METHOD:PUBLISH
X-PUBLISHED-TTL:P3D
REFRESH-INTERVAL:P3D
CALSCALE:GREGORIAN
BEGIN:VEVENT
DTSTART:20191129T180000Z
DTEND:20191129T223000Z
X-MICROSOFT-CDO-ALLDAYEVENT:FALSE
SUMMARY:Annual Holiday Open House of the South Dakota State Historical Society
DESCRIPTION:Free admission to the museum\, featuring the new exhibit about women's suffrage. Free holiday entertainment and treats. Photos with Santa Claus. Donate canned goods to the local food pantry.
X-ALT-DESC;FMTTYPE=text/html:Free admission to the museum\, featuring the new exhibit about women&#39\;s suffrage. Free holiday entertainment and treats. Photos with Santa Claus. Donate canned goods to the local food pantry.
LOCATION:Cultural Heritage Center 900 Governors Drive
UID:e.413.29402
SEQUENCE:3
DTSTAMP:20260423T085036Z
URL:https://business.pierre.org/events/details/annual-holiday-open-house-of-the-south-dakota-state-historical-society-11-29-2019-29402
END:VEVENT

END:VCALENDAR
