BEGIN:VCALENDAR
VERSION:2.0
PRODID:-//ChamberMaster//Event Calendar 2.0//EN
METHOD:PUBLISH
X-PUBLISHED-TTL:P3D
REFRESH-INTERVAL:P3D
CALSCALE:GREGORIAN
BEGIN:VEVENT
DTSTART:20221126T160000Z
DTEND:20221126T180000Z
X-MICROSOFT-CDO-ALLDAYEVENT:FALSE
SUMMARY:Angel Trees
DESCRIPTION:This Season of Giving Northridge Plaza invites area philanthropic organizations to set up an Angel Tree in the mall corridor. Kids\, Vets\, and Pups in need will be hoping you select them for your gift giving this year. If your organization would like to put up a tree please contact the mall office at (605)224-6331.
X-ALT-DESC;FMTTYPE=text/html:This Season of Giving Northridge Plaza invites area philanthropic organizations to set up an Angel Tree in the mall corridor. Kids\, Vets\, and Pups in need will be hoping you select them for your gift giving this year. If your organization would like to put up a tree please contact the mall office at (605)224-6331.
LOCATION:Northridge Plaza\, 1615 N Harrison Avenue\, Pierre\, SD 57501
UID:e.413.36517
SEQUENCE:3
DTSTAMP:20260423T142343Z
URL:https://business.pierre.org/events/details/angel-trees-11-26-2022-36517
END:VEVENT

END:VCALENDAR
