BEGIN:VCALENDAR
VERSION:2.0
PRODID:-//ChamberMaster//Event Calendar 2.0//EN
METHOD:PUBLISH
X-PUBLISHED-TTL:P3D
REFRESH-INTERVAL:P3D
CALSCALE:GREGORIAN
BEGIN:VEVENT
DTSTART:20241005T140000Z
DTEND:20241005T140000Z
X-MICROSOFT-CDO-ALLDAYEVENT:FALSE
SUMMARY:A Girl & A Gun Women's Shooting League Meet & Greet
DESCRIPTION:Join us for a free meet and greet to learn about the A Girl & Gun Women's Shooting League!\n\n\n\nMeet Janelle Keller and learn about the exciting future of the league in Pierre\, SD\n\nAfterwards\, attendees will have the opportunity to participate in an introduction to shooting at the Oahe Downstream Recreation Area - Shooting Range.\n\n\n\n**Pre-registration is required. Goodie bags and free raffle tickets for prizes will be provided!\n\nContact Christine Maki for more information at (626) 641-5680 or ag.agGreaterBH@gmail.com.\n\n\n\nSponsored by G 2 22 Firearms Training & Leadership Consulting LLC and supported by the AG & AG Sisterhood of the Greater Black Hills chapter of A Girl & A Gun.
X-ALT-DESC;FMTTYPE=text/html:Join us for a free meet and greet to learn about the A Girl &amp\; Gun Women&#39\;s Shooting League!<br />\n<br />\nMeet Janelle Keller and learn about the exciting future of the league in Pierre\, SD<br />\nAfterwards\, attendees will have the opportunity to participate in an introduction to shooting at the Oahe Downstream Recreation Area - Shooting Range.<br />\n<br />\n**Pre-registration is required. Goodie bags and free raffle tickets for prizes will be provided!<br />\nContact Christine Maki for more information at (626) 641-5680 or ag.agGreaterBH@gmail.com.<br />\n<br />\nSponsored by G 2 22 Firearms Training &amp\; Leadership Consulting LLC and supported by the AG &amp\; AG Sisterhood of the Greater Black Hills chapter of A Girl &amp\; A Gun.
LOCATION:650 E. Capitol Avenue
UID:e.413.40059
SEQUENCE:3
DTSTAMP:20260424T141930Z
URL:https://business.pierre.org/events/details/a-girl-a-gun-women-s-shooting-league-meet-greet-40059
END:VEVENT

END:VCALENDAR
