BEGIN:VCALENDAR
VERSION:2.0
PRODID:-//ChamberMaster//Event Calendar 2.0//EN
METHOD:PUBLISH
X-PUBLISHED-TTL:P3D
REFRESH-INTERVAL:P3D
CALSCALE:GREGORIAN
BEGIN:VEVENT
DTSTART:20200910T210000Z
DTEND:20200910T230000Z
X-MICROSOFT-CDO-ALLDAYEVENT:FALSE
SUMMARY:9th Grade Football
DESCRIPTION:9th Grade Football vs. Rapid City Stevens
X-ALT-DESC;FMTTYPE=text/html:9th Grade Football vs. Rapid City Stevens
LOCATION:Hollister Field
UID:e.413.32525
SEQUENCE:3
DTSTAMP:20260425T235505Z
URL:https://business.pierre.org/events/details/9th-grade-football-09-10-2020-32525
END:VEVENT

END:VCALENDAR
