BEGIN:VCALENDAR
VERSION:2.0
PRODID:-//ChamberMaster//Event Calendar 2.0//EN
METHOD:PUBLISH
X-PUBLISHED-TTL:P3D
REFRESH-INTERVAL:P3D
CALSCALE:GREGORIAN
BEGIN:VEVENT
DTSTART:20190123T190000Z
DTEND:20190123T220000Z
X-MICROSOFT-CDO-ALLDAYEVENT:FALSE
SUMMARY:6 th Elk's Aviation Day
DESCRIPTION:the Aviation Day for the South Dakota Discovery Center and the Pierre Elk's #1953... This is the largest single day children event in central South Dakota featuring every aspect of aviation in our great state. This year we have sent invites to Ellsworth Air Force and SD Air Army National Guard \, we hope that they can attend this special event where over 350 students will able to view exhibits and participate in the hands on event. Also invited and are attending are\, Pierre Civil Air Patrol\, Mustang Aviation\, South Dakota DOT Aeronautics\, City of Pierre Municipal Airport\, and SD Air National Guard.
X-ALT-DESC;FMTTYPE=text/html:the Aviation Day for the South Dakota Discovery Center and the Pierre Elk&rsquo\;s #1953... This is the largest single day children event in central South Dakota featuring every aspect of aviation in our great state. This year we have sent invites to Ellsworth Air Force and SD Air Army National Guard \, we hope that they can attend this special event where over 350 students will able to view exhibits and participate in the hands on event. Also invited and are attending are\, Pierre Civil Air Patrol\, Mustang Aviation\, South Dakota DOT Aeronautics\, City of Pierre Municipal Airport\, and SD Air National Guard.
LOCATION:South Dakota Discovery Center\, 805 West Sioux\, Pierre\, SD 57501
UID:e.413.26551
SEQUENCE:3
DTSTAMP:20260422T160815Z
URL:https://business.pierre.org/events/details/6-th-elk-s-aviation-day-26551
END:VEVENT

END:VCALENDAR
