BEGIN:VCALENDAR
VERSION:2.0
PRODID:-//ChamberMaster//Event Calendar 2.0//EN
METHOD:PUBLISH
X-PUBLISHED-TTL:P3D
REFRESH-INTERVAL:P3D
CALSCALE:GREGORIAN
BEGIN:VEVENT
DTSTART:20241005T130000Z
DTEND:20241005T210000Z
X-MICROSOFT-CDO-ALLDAYEVENT:FALSE
SUMMARY:2024 Oahe Youth Football Jamboree
DESCRIPTION:Jamboree for Youth Football Teams.\n\n\n\nTwo Divisions and teams are matched by experience 3rd/4th grade division and 5ht/6th grade division\n\n\n\nContact Samson Boutchee through a Facebook direct message or text/call 605-280-1976
X-ALT-DESC;FMTTYPE=text/html:Jamboree for Youth Football Teams.<br />\n<br />\nTwo Divisions and teams are matched by experience 3rd/4th grade division and 5ht/6th grade division<br />\n<br />\nContact Samson Boutchee through a Facebook direct message or text/call 605-280-1976
LOCATION:Pierre\, SD
UID:e.413.39991
SEQUENCE:3
DTSTAMP:20260420T002420Z
URL:https://business.pierre.org/events/details/2024-oahe-youth-football-jamboree-39991
END:VEVENT

END:VCALENDAR
