BEGIN:VCALENDAR
VERSION:2.0
PRODID:-//ChamberMaster//Event Calendar 2.0//EN
METHOD:PUBLISH
X-PUBLISHED-TTL:P3D
REFRESH-INTERVAL:P3D
CALSCALE:GREGORIAN
BEGIN:VEVENT
DTSTART:20210214T180000Z
DTEND:20210214T230000Z
X-MICROSOFT-CDO-ALLDAYEVENT:FALSE
SUMMARY:2021 Love is in the Air Vendor Show at Northridge Plaza
DESCRIPTION:Lone Wolf Spices\, Crocheted by Linda\, 10th Ave Craft Studio\, Dakota Soaps\, Kookies by Kendra\, Dipsy Dip Nails\, Bomb Party Rings\, Bingen's Wonderful Watkins\, Buzz Soaps\, Pampered Chef\, Jed's Iron\, Beadwork\, Amplife Original Happy Coffee\, Hemplife Happy Gut Products & Immune System Builders\, Doterra Essential Oil by Rita\, Jules & Jems beaded supplies\, Sherry's Woodworking\, Barren Acres Crafts\, Wetern Crafts 4U\, Antiques Collectables & Gifts.\n\n\n\nSaturday Only: Baleigh Photography\, Lemongrass Products\, Treasures by Tracy\, Rosecky Custom Engraving\, Color Street\, Scentsy\, Homemade Jewelry\, Twist & Tradish\, AND MORE!
X-ALT-DESC;FMTTYPE=text/html:Lone Wolf Spices\, Crocheted by Linda\, 10th Ave Craft Studio\, Dakota Soaps\, Kookies by Kendra\, Dipsy Dip Nails\, Bomb Party Rings\, Bingen&#39\;s Wonderful Watkins\, Buzz Soaps\, Pampered Chef\, Jed&#39\;s Iron\, Beadwork\, Amplife Original Happy Coffee\, Hemplife Happy Gut Products &amp\; Immune System Builders\, Doterra Essential Oil by Rita\, Jules &amp\; Jems beaded supplies\, Sherry&#39\;s Woodworking\, Barren Acres Crafts\, Wetern Crafts 4U\, Antiques Collectables &amp\; Gifts.<br />\n<br />\nSaturday Only: Baleigh Photography\, Lemongrass Products\, Treasures by Tracy\, Rosecky Custom Engraving\, Color Street\, Scentsy\, Homemade Jewelry\, Twist &amp\; Tradish\, AND MORE!
LOCATION:Northridge Plaza\, 1615 N Harrison Ave
UID:e.413.33675
SEQUENCE:3
DTSTAMP:20260422T170457Z
URL:https://business.pierre.org/events/details/2021-love-is-in-the-air-vendor-show-at-northridge-plaza-02-14-2021-33675
END:VEVENT

END:VCALENDAR
