BEGIN:VCALENDAR
VERSION:2.0
PRODID:-//ChamberMaster//Event Calendar 2.0//EN
METHOD:PUBLISH
X-PUBLISHED-TTL:P3D
REFRESH-INTERVAL:P3D
CALSCALE:GREGORIAN
BEGIN:VEVENT
DTSTART:20250123T210000Z
DTEND:20250123T230000Z
X-MICROSOFT-CDO-ALLDAYEVENT:FALSE
SUMMARY:1 Year Anniversary Peaceful Pines Senior Living
DESCRIPTION:Come and join us to celebrate our 1 Year Anniversary Open House event! On January 23\, we will be open from 2-4pm to give tours and answer any questions you have about senior living. We will also have hot cocoa and caramel apples to help you warm up! We hope you will stop in to see us and explore the possibilities of senior living at Peaceful Pines!
X-ALT-DESC;FMTTYPE=text/html:Come and join us to celebrate our 1 Year Anniversary Open House event! On January 23\, we will be open from 2-4pm to give tours and answer any questions you have about senior living. We will also have hot cocoa and caramel apples to help you warm up! We hope you will stop in to see us and explore the possibilities of senior living at Peaceful Pines!
LOCATION:Peaceful Pines Senior Living 1000 Yellowstone Street Fort Pierre\, SD
UID:e.413.40478
SEQUENCE:3
DTSTAMP:20260421T204426Z
URL:https://business.pierre.org/events/details/1-year-anniversary-peaceful-pines-senior-living-40478
END:VEVENT

END:VCALENDAR
